BEGIN:VCALENDAR
VERSION:2.0
PRODID:-//Plone.org//NONSGML plone.app.event//EN
X-WR-TIMEZONE:Europe/Vienna
BEGIN:VEVENT
SUMMARY:Zeichnen ist politisch. Zeichenkreis — Sechzehn Workshops im Jah
 r 2021
DTSTART;TZID=Europe/Vienna:20211120T110000
DTEND;TZID=Europe/Vienna:20211120T130000
DTSTAMP:20260424T075614Z
UID:092015d79b56a781a75d6bbee18e419b@www.akbild.ac.at
CATEGORIES:Vorträge / Veranstaltungen
CREATED:20220312T090500Z
DESCRIPTION:Konzipiert und organisiert von Veronika Dirnhofer\, Elke Krasn
 y\, Ruby Sircar\, Institut für bildende Kunst und Fachbereich Kunst und B
 ildung am Institut für das künstlerische Lehramt an der Akademie der bil
 denden Künste Wien im Rahmen von\n \n  100 JAHRE - „SIE* KAM UND BLIEB
 “\n \n .\n\n\n Kooperation mit der kunst.schule wien\, SOHO in Ottakring
 \, VBKÖ\,\n \n  Universität für angewandte Kunst\n \n sowie dem Verein 
 Solidarity Matters\n\n\n \n  Bitte um Anmeldung:\n  \n  \n \n \n  r.sircar
 @akbild.ac.at
LAST-MODIFIED:20240919T081209Z
URL:https://www.akbild.ac.at/de/institute/bildende-kunst/veranstaltungen/v
 ortrage-events/2021/zeichnen-ist-politisch-veronika-dirnhofer-negin-rezaie
 -solidarity-matters
END:VEVENT
BEGIN:VTIMEZONE
TZID:Europe/Vienna
X-LIC-LOCATION:Europe/Vienna
BEGIN:STANDARD
DTSTART:20211031T020000
TZNAME:CET
TZOFFSETFROM:+0200
TZOFFSETTO:+0100
END:STANDARD
END:VTIMEZONE
END:VCALENDAR
