BEGIN:VCALENDAR
VERSION:2.0
PRODID:-//Plone.org//NONSGML plone.app.event//EN
X-WR-TIMEZONE:Europe/Vienna
BEGIN:VEVENT
SUMMARY:Die Sprache\, die wir sprechen\, wenn wir über Kunst sprechen
DTSTART;TZID=Europe/Vienna:20220609T140000
DTEND;TZID=Europe/Vienna:20220609T160000
DTSTAMP:20260419T152430Z
UID:0fe22e2f369d47d191163996f919cc25@www.akbild.ac.at
CATEGORIES:Vorträge / Veranstaltungen
CREATED:20220603T133739Z
DESCRIPTION:Gastvortrag und Gespräch mit Martin Hochleitner anlässlich d
 er Buchneuerscheinung Die Sprache\, die wir sprechen\, wenn wir über Kuns
 t sprechen.
LAST-MODIFIED:20240919T081202Z
URL:https://www.akbild.ac.at/de/institute/bildende-kunst/veranstaltungen/v
 ortrage-events/2022/die-sprache-die-wir-sprechen-wenn-wir-ueber-kunst-spre
 chen
END:VEVENT
BEGIN:VTIMEZONE
TZID:Europe/Vienna
X-LIC-LOCATION:Europe/Vienna
BEGIN:DAYLIGHT
DTSTART:20220327T030000
TZNAME:CEST
TZOFFSETFROM:+0100
TZOFFSETTO:+0200
END:DAYLIGHT
END:VTIMEZONE
END:VCALENDAR
