BEGIN:VCALENDAR
VERSION:2.0
PRODID:-//Plone.org//NONSGML plone.app.event//EN
X-WR-TIMEZONE:Europe/Vienna
BEGIN:VEVENT
SUMMARY:Haegue Yang: Double Soul
DTSTART;TZID=Europe/Vienna:20220317T140000
DTEND;TZID=Europe/Vienna:20220317T160000
DTSTAMP:20260425T214955Z
UID:6e9b49291eda01aa52f96c01b6ed3867@www.akbild.ac.at
CATEGORIES:Vorträge / Veranstaltungen
CREATED:20220312T090549Z
DESCRIPTION:Artist talk mit Haegue Yang im Rahmen der Ringvorlesung des IB
 K\, Objekt-Bildhauerei\, im Sommersemester 2022.\n\n\n In ihrem Vortrag wi
 rd Haegue Yang ihre neueste Ausstellung\n \n  Double Soul\n \n im Statens 
 Museum for Kunst (SMK) in Kopenhagen vorstellen und Einblicke in ihre brei
 tgefächerte künstlerische Praxis geben.\n\n\n \n  \n   https://akbild-ac
 -at.zoom.us/j/97035062958?pwd=d3NmdE9SSTZSc3hCU2wxNWpwZ01lZz09
LAST-MODIFIED:20240919T081202Z
URL:https://www.akbild.ac.at/de/institute/bildende-kunst/veranstaltungen/v
 ortrage-events/2022/haegue-yang-double-soul
END:VEVENT
BEGIN:VTIMEZONE
TZID:Europe/Vienna
X-LIC-LOCATION:Europe/Vienna
BEGIN:STANDARD
DTSTART:20211031T020000
TZNAME:CET
TZOFFSETFROM:+0200
TZOFFSETTO:+0100
END:STANDARD
END:VTIMEZONE
END:VCALENDAR
