BEGIN:VCALENDAR
VERSION:2.0
PRODID:-//Plone.org//NONSGML plone.app.event//EN
X-WR-TIMEZONE:Europe/Vienna
BEGIN:VEVENT
SUMMARY:Romana Hagyo: Über das Wohnen im Bilde sein
DTSTART;TZID=Europe/Vienna:20221215T180000
DTSTAMP:20260423T175940Z
UID:b8877f51a676427ea563a00bab040860@www.akbild.ac.at
CATEGORIES:Vorträge / Veranstaltungen
CREATED:20221206T091822Z
DESCRIPTION:Vortrag im Rahmen der Ringvorlesung des Instituts für bildend
 e Kunst. Moderation: Ashley Hans Scheirl
LAST-MODIFIED:20240919T081206Z
URL:https://www.akbild.ac.at/de/institute/bildende-kunst/veranstaltungen/v
 ortrage-events/2022/romana-hagyo-ueber-das-wohnen-im-bilde-sein
END:VEVENT
BEGIN:VTIMEZONE
TZID:Europe/Vienna
X-LIC-LOCATION:Europe/Vienna
BEGIN:STANDARD
DTSTART:20221030T020000
TZNAME:CET
TZOFFSETFROM:+0200
TZOFFSETTO:+0100
END:STANDARD
END:VTIMEZONE
END:VCALENDAR
