BEGIN:VCALENDAR
VERSION:2.0
PRODID:-//Plone.org//NONSGML plone.app.event//EN
X-WR-TIMEZONE:Europe/Vienna
BEGIN:VEVENT
SUMMARY:SYMBIOPOIESIS
DTSTART;TZID=Europe/Vienna:20220922T170000
DTSTAMP:20260424T133443Z
UID:426b1fbf5c9d44949109973ad40e047f@www.akbild.ac.at
CATEGORIES:Vorträge / Veranstaltungen
CREATED:20220912T085703Z
DESCRIPTION:Performance im Rahmen der Wienwoche organisiert vom Fachbereic
 h für Konzeptuelle Kunst.
LAST-MODIFIED:20240919T081206Z
URL:https://www.akbild.ac.at/de/institute/bildende-kunst/veranstaltungen/v
 ortrage-events/2022/symbiopoiesis
END:VEVENT
BEGIN:VTIMEZONE
TZID:Europe/Vienna
X-LIC-LOCATION:Europe/Vienna
BEGIN:DAYLIGHT
DTSTART:20220327T030000
TZNAME:CEST
TZOFFSETFROM:+0100
TZOFFSETTO:+0200
END:DAYLIGHT
END:VTIMEZONE
END:VCALENDAR
