BEGIN:VCALENDAR
VERSION:2.0
PRODID:-//Plone.org//NONSGML plone.app.event//EN
X-WR-TIMEZONE:Europe/Vienna
BEGIN:VEVENT
SUMMARY:Zeichnen ist politisch mit Irene Lucas
DTSTART;TZID=Europe/Vienna:20220621T170000
DTEND;TZID=Europe/Vienna:20220621T190000
DTSTAMP:20260424T092818Z
UID:27c19345b175448ea86a310a961ef45b@www.akbild.ac.at
CATEGORIES:Vorträge / Veranstaltungen
CREATED:20220329T143305Z
DESCRIPTION:Die Workshopreihe Zeichnen ist politisch verbindet aktuelle em
 anzipierende zeitgenössische Zeichenpraxen die künstlerischen Selbstausd
 ruck\, politische Artikulation und solidarische ästhetische Praxis verkn
 üpfen.
LAST-MODIFIED:20240919T081202Z
URL:https://www.akbild.ac.at/de/institute/bildende-kunst/veranstaltungen/v
 ortrage-events/2022/zeichnen-ist-politisch-1/zeichnen-ist-politisch-mit-ir
 ene-lucas
END:VEVENT
BEGIN:VTIMEZONE
TZID:Europe/Vienna
X-LIC-LOCATION:Europe/Vienna
BEGIN:DAYLIGHT
DTSTART:20220327T030000
TZNAME:CEST
TZOFFSETFROM:+0100
TZOFFSETTO:+0200
END:DAYLIGHT
END:VTIMEZONE
END:VCALENDAR
