BEGIN:VCALENDAR
VERSION:2.0
PRODID:-//Plone.org//NONSGML plone.app.event//EN
X-WR-TIMEZONE:Europe/Vienna
BEGIN:VEVENT
SUMMARY:Burys Wunderkammer – Der Blick hinter die Kulissen
DTSTART;TZID=Europe/Vienna:20230525T180000
DTEND;TZID=Europe/Vienna:20230525T200000
DTSTAMP:20260423T114303Z
UID:61e3a1a3cc4947998f63ecb55c60b797@www.akbild.ac.at
CATEGORIES:Vorträge / Veranstaltungen
CREATED:20230510T093101Z
DESCRIPTION:Vortrag von Götz Bury im Rahmen der IBK Ringvorlesung 2023\, 
 organisiert von der Metallwerkstatt.
LAST-MODIFIED:20240919T081159Z
URL:https://www.akbild.ac.at/de/institute/bildende-kunst/veranstaltungen/v
 ortrage-events/2023/burys-wunderkammer-der-blick-hinter-die-kulissen
END:VEVENT
BEGIN:VTIMEZONE
TZID:Europe/Vienna
X-LIC-LOCATION:Europe/Vienna
BEGIN:DAYLIGHT
DTSTART:20230326T030000
TZNAME:CEST
TZOFFSETFROM:+0100
TZOFFSETTO:+0200
END:DAYLIGHT
END:VTIMEZONE
END:VCALENDAR
