BEGIN:VCALENDAR
VERSION:2.0
PRODID:-//Plone.org//NONSGML plone.app.event//EN
X-WR-TIMEZONE:Europe/Vienna
BEGIN:VEVENT
SUMMARY:Doing Things with Being Undone in the Necrocene
DTSTART;TZID=Europe/Vienna:20230330T180000
DTSTAMP:20260424T103231Z
UID:ec9ac9db6b8f4d9b8eb97ca1bddf43cd@www.akbild.ac.at
CATEGORIES:Vorträge / Veranstaltungen
CREATED:20230321T082242Z
DESCRIPTION:IBK Ringvorlesungen SS 2023. Vortrag von Professorin Dr. Jill 
 H. Casid (U.S.)\, organisiert vom Fachbereich Konzeptuelle Kunst\, Prof. M
 arina Gržinić. (Vortrag auf Englisch)
LAST-MODIFIED:20240919T081159Z
URL:https://www.akbild.ac.at/de/institute/bildende-kunst/veranstaltungen/v
 ortrage-events/2023/doing-things-with-being-undone-in-the-necrocene
END:VEVENT
BEGIN:VTIMEZONE
TZID:Europe/Vienna
X-LIC-LOCATION:Europe/Vienna
BEGIN:DAYLIGHT
DTSTART:20230326T030000
TZNAME:CEST
TZOFFSETFROM:+0100
TZOFFSETTO:+0200
END:DAYLIGHT
END:VTIMEZONE
END:VCALENDAR
