BEGIN:VCALENDAR
VERSION:2.0
PRODID:-//Plone.org//NONSGML plone.app.event//EN
X-WR-TIMEZONE:Europe/Vienna
BEGIN:VEVENT
SUMMARY:How Your Daily Life Influences Your Artistic Personality
DTSTART;TZID=Europe/Vienna:20231120T190000
DTSTAMP:20260425T121722Z
UID:8c9d6513526b4182be8d2d9bee848196@www.akbild.ac.at
CATEGORIES:Vorträge / Veranstaltungen
CREATED:20231113T041956Z
DESCRIPTION:Vortrag von Maryam Kouhestani\, Iran\, organisiert vom Fachber
 eich Kunst und Intervention | Konzept\, Post-conceptual Art Practices/Prof
 . Grzinic (Englisch).
LAST-MODIFIED:20240919T081159Z
URL:https://www.akbild.ac.at/de/institute/bildende-kunst/veranstaltungen/v
 ortrage-events/2023/how-your-daily-life-influences-your-artistic-personali
 ty
END:VEVENT
BEGIN:VTIMEZONE
TZID:Europe/Vienna
X-LIC-LOCATION:Europe/Vienna
BEGIN:STANDARD
DTSTART:20231029T020000
TZNAME:CET
TZOFFSETFROM:+0200
TZOFFSETTO:+0100
END:STANDARD
END:VTIMEZONE
END:VCALENDAR
