BEGIN:VCALENDAR
VERSION:2.0
PRODID:-//Plone.org//NONSGML plone.app.event//EN
X-WR-TIMEZONE:Europe/Vienna
BEGIN:VEVENT
SUMMARY:Gender and Space Tour mit Anna T. (curator) in der Ausstellung [em
 ]Close[t] Demonstrations\, an exhibition on the multitudes of queer invisi
 bility[/em]
DTSTART;TZID=Europe/Vienna:20231116T160000
DTSTAMP:20260423T101432Z
UID:fb375a6703b54975a562aa33ee23fdef@www.akbild.ac.at
CATEGORIES:Vorträge / Veranstaltungen
CREATED:20231102T120531Z
DESCRIPTION:Eine Veranstaltung des Fachbereichs Gender und Space am Instit
 ut für bildende Kunst. Vortrag in Englisch\nDie Veranstaltungsreihe Gende
 r und Space Tours/Talks/Workshops erforscht und entwickelt Ansätze\, in 
 Raumordnungen\, die immer auch Geschlechterordnungen sind\, zu intervenier
 en\, sie in Frage zu stellen oder umzuarbeiten.
LAST-MODIFIED:20240919T081159Z
URL:https://www.akbild.ac.at/de/institute/bildende-kunst/veranstaltungen/v
 ortrage-events/2023/tour-mit-anna-t-curator-in-der-ausstellung-em-close-t-
 demonstrations-an-exhibition-on-the-multitudes-of-queer-invisibility-em
END:VEVENT
BEGIN:VTIMEZONE
TZID:Europe/Vienna
X-LIC-LOCATION:Europe/Vienna
BEGIN:STANDARD
DTSTART:20231029T020000
TZNAME:CET
TZOFFSETFROM:+0200
TZOFFSETTO:+0100
END:STANDARD
END:VTIMEZONE
END:VCALENDAR
