BEGIN:VCALENDAR
VERSION:2.0
PRODID:-//Plone.org//NONSGML plone.app.event//EN
X-WR-TIMEZONE:Europe/Vienna
BEGIN:VEVENT
SUMMARY:Körper\, Technologie\, Theorie und KI für den zivilen Widerstand
  verbinden
DTSTART;TZID=Europe/Vienna:20231003T130000
DTEND;TZID=Europe/Vienna:20231003T170000
DTSTAMP:20260423T101435Z
UID:5bf626917bff48699fb019a24cc6cdb9@www.akbild.ac.at
CATEGORIES:Konferenzen
CREATED:20230907T083519Z
DESCRIPTION:Dieses Symposium ist Teil der Vortragsreihe Ludic Method. Das 
 Symposium wird unterstützt durch das Forschungsprojekt Konvivialität als
  Potentialität (2021-2025)\, gefördert vom Österreichischen Wissenschaf
 tsfonds FWF: AR 679.
LAST-MODIFIED:20240919T081159Z
URL:https://www.akbild.ac.at/de/institute/bildende-kunst/veranstaltungen/v
 ortrage-events/2023/ueberschneidung-von-koerpern-technologie-theorie-und-k
 i-fuer-zivilen-widerstand
END:VEVENT
BEGIN:VTIMEZONE
TZID:Europe/Vienna
X-LIC-LOCATION:Europe/Vienna
BEGIN:DAYLIGHT
DTSTART:20230326T030000
TZNAME:CEST
TZOFFSETFROM:+0100
TZOFFSETTO:+0200
END:DAYLIGHT
END:VTIMEZONE
END:VCALENDAR
