BEGIN:VCALENDAR
VERSION:2.0
PRODID:-//Plone.org//NONSGML plone.app.event//EN
X-WR-TIMEZONE:Europe/Vienna
BEGIN:VEVENT
SUMMARY:Vortrag von Stan Douglas
DTSTART;TZID=Europe/Vienna:20230614T130000
DTSTAMP:20260419T134438Z
UID:f0c690c5c0a046f4a0c949402f13eaa6@www.akbild.ac.at
CATEGORIES:Vorträge / Veranstaltungen
CREATED:20230609T095704Z
DESCRIPTION:Eine Veranstaltung des Fachbereichs Video und Videoinstallatio
 n in Kooperation mit den Wiener Festwochen.
LAST-MODIFIED:20240919T081159Z
URL:https://www.akbild.ac.at/de/institute/bildende-kunst/veranstaltungen/v
 ortrage-events/2023/vortrag-von-stan-douglas
END:VEVENT
BEGIN:VTIMEZONE
TZID:Europe/Vienna
X-LIC-LOCATION:Europe/Vienna
BEGIN:DAYLIGHT
DTSTART:20230326T030000
TZNAME:CEST
TZOFFSETFROM:+0100
TZOFFSETTO:+0200
END:DAYLIGHT
END:VTIMEZONE
END:VCALENDAR
