BEGIN:VCALENDAR
VERSION:2.0
PRODID:-//Plone.org//NONSGML plone.app.event//EN
X-WR-TIMEZONE:Europe/Vienna
BEGIN:VEVENT
SUMMARY:Elisa R. Linn: Selbstorganisation von unten\, um die Grenze zu üb
 erschreiten: Die Berliner Mauer als Kondom
DTSTART;VALUE=DATE:20241202
DTEND;VALUE=DATE:20241204
DTSTAMP:20260421T135650Z
UID:0dffc1851e9e4d5d9c7308729a871532@www.akbild.ac.at
CATEGORIES:Vorträge / Veranstaltungen
CREATED:20241121T145641Z
DESCRIPTION:Zwei öffentliche Vorträge werden im Rahmen des Seminars AIDS
 \, DDR\, EU\, Globaler Kapitalismus und Hardcore Theorie organisiert\, mit
  einem Fokus auf Sexualität\, Gender\, Widerstand\, Migration und Selbste
 rmächtigung. Das Seminar wird von Marina Gržinić und Elisa R. Linn ge
 leitet.
LAST-MODIFIED:20241129T084453Z
URL:https://www.akbild.ac.at/de/institute/bildende-kunst/veranstaltungen/v
 ortrage-events/2024/elisa-r-linn-selbstorganisation-von-unten
END:VEVENT
END:VCALENDAR
