BEGIN:VCALENDAR
VERSION:2.0
PRODID:-//Plone.org//NONSGML plone.app.event//EN
X-WR-TIMEZONE:Europe/Vienna
BEGIN:VEVENT
SUMMARY:Habima Fuchs
DTSTART;TZID=Europe/Vienna:20241017T190000
DTSTAMP:20260425T024334Z
UID:3a6a952cdd834359b4d8d70206dd3c9e@www.akbild.ac.at
CATEGORIES:Vorträge / Veranstaltungen
CREATED:20241007T121105Z
DESCRIPTION:1. Teil der Ringvorlesung des Instituts für bildende Kunst. D
 er Fachbereich Kunst und Bild I Abstraktion freut sich auf die bildende K
 ünstlerin Habima Fuchs\, die eine Einführung in ihr Werk gibt und ihren 
 aktuellen Film EQUINOX vorstellt.
LAST-MODIFIED:20241010T082255Z
URL:https://www.akbild.ac.at/de/institute/bildende-kunst/veranstaltungen/v
 ortrage-events/2024/habima-fuchs
END:VEVENT
BEGIN:VTIMEZONE
TZID:Europe/Vienna
X-LIC-LOCATION:Europe/Vienna
BEGIN:DAYLIGHT
DTSTART:20240331T030000
TZNAME:CEST
TZOFFSETFROM:+0100
TZOFFSETTO:+0200
END:DAYLIGHT
END:VTIMEZONE
END:VCALENDAR
