BEGIN:VCALENDAR
VERSION:2.0
PRODID:-//Plone.org//NONSGML plone.app.event//EN
X-WR-TIMEZONE:Europe/Vienna
BEGIN:VEVENT
SUMMARY:Lecture und Talk: Prof. Dr. Ruha Benjamin
DTSTART;TZID=Europe/Vienna:20241030T190000
DTSTAMP:20260423T000022Z
UID:f1bc147034f148bea8e218e50c308f71@www.akbild.ac.at
CATEGORIES:Vorträge / Veranstaltungen
CREATED:20240916T093531Z
DESCRIPTION:Vortrag “Race to the Future? From Artificial Intelligence to
  Abundant Imagination”. [Von Künstlicher Intelligenz zu Überfluss an V
 orstellungskraft]. Dieses Programm findet im Rahmen und in Kooperation mit
  den folgenden Projekten und Partnern statt: FWF-PEEK AR 679 Conviviality 
 as Potentiality\, Akademie der bildenden Künste Wien\; Muslim*Contemporar
 y von Salam Oida\; Koordinationsstelle Frauenförderung | Geschlechterfors
 chung | Diversität\, Akademie der bildenden Künste Wien\; Hauptbücherei
  Wien.
LAST-MODIFIED:20241010T070545Z
URL:https://www.akbild.ac.at/de/institute/bildende-kunst/veranstaltungen/v
 ortrage-events/2024/lecture-talk-prof-dr-ruha-benjamin-muslim-contemporary
END:VEVENT
BEGIN:VTIMEZONE
TZID:Europe/Vienna
X-LIC-LOCATION:Europe/Vienna
BEGIN:STANDARD
DTSTART:20241027T020000
TZNAME:CET
TZOFFSETFROM:+0200
TZOFFSETTO:+0100
END:STANDARD
END:VTIMEZONE
END:VCALENDAR
