BEGIN:VCALENDAR
VERSION:2.0
PRODID:-//Plone.org//NONSGML plone.app.event//EN
X-WR-TIMEZONE:Europe/Vienna
BEGIN:VEVENT
SUMMARY:Talk und Panel
DTSTART;TZID=Europe/Vienna:20241022T170000
DTSTAMP:20260423T230223Z
UID:970a3e3d14da49158363b30b4416202a@www.akbild.ac.at
CATEGORIES:Vorträge / Veranstaltungen
CREATED:20240916T083407Z
DESCRIPTION:Mit Prof. Dr. Fatima El-Tayeb\, Yale University\, USA.Dieses P
 rogramm findet im Rahmen und in Kooperation mit den folgenden Projekten un
 d Partnern statt: FWF-PEEK AR 679 Conviviality as Potentiality\, Akademie 
 der bildenden Künste Wien\; Muslim*Contemporary von Salam Oida\; Koordina
 tionsstelle Frauenförderung | Geschlechterforschung | Diversität\, Akade
 mie der bildenden Künste Wien.
LAST-MODIFIED:20241009T083053Z
URL:https://www.akbild.ac.at/de/institute/bildende-kunst/veranstaltungen/v
 ortrage-events/2024/talk-und-panel-muslim-contemporary
END:VEVENT
BEGIN:VTIMEZONE
TZID:Europe/Vienna
X-LIC-LOCATION:Europe/Vienna
BEGIN:DAYLIGHT
DTSTART:20240331T030000
TZNAME:CEST
TZOFFSETFROM:+0100
TZOFFSETTO:+0200
END:DAYLIGHT
END:VTIMEZONE
END:VCALENDAR
