BEGIN:VCALENDAR
VERSION:2.0
PRODID:-//Plone.org//NONSGML plone.app.event//EN
X-WR-TIMEZONE:Europe/Vienna
BEGIN:VEVENT
SUMMARY:Thinking through Cacophony: An Experiment in Sounding Our Differen
 t Knowledges
DTSTART;TZID=Europe/Vienna:20240603T160000
DTEND;TZID=Europe/Vienna:20240603T190000
DTSTAMP:20260424T091244Z
UID:9824d7329da449e1a519f65a6ce7f627@www.akbild.ac.at
CATEGORIES:Workshops
CREATED:20240326T180050Z
DESCRIPTION:Workshop mit Thabang Monoa organisiert im Rahmen des Erasmus
  + Projekts und der Akademie der bildenden Künste Wien. Eine Veranstaltun
 g im Rahmen von dem Forschungsprojekt Conviviality as Potentiality: From A
 mnesia to Pandemic towards Convivial Epistemologies (FWF AR 679\, 2021–2
 025)
LAST-MODIFIED:20240919T081155Z
URL:https://www.akbild.ac.at/de/institute/bildende-kunst/veranstaltungen/v
 ortrage-events/2024/thinking-through-cacophony-an-experiment-in-sounding-o
 ur-different-knowledges
END:VEVENT
BEGIN:VTIMEZONE
TZID:Europe/Vienna
X-LIC-LOCATION:Europe/Vienna
BEGIN:DAYLIGHT
DTSTART:20240331T030000
TZNAME:CEST
TZOFFSETFROM:+0100
TZOFFSETTO:+0200
END:DAYLIGHT
END:VTIMEZONE
END:VCALENDAR
