BEGIN:VCALENDAR
VERSION:2.0
PRODID:-//Plone.org//NONSGML plone.app.event//EN
X-WR-TIMEZONE:Europe/Vienna
BEGIN:VEVENT
SUMMARY:TQW Winter School – Closing Party
DTSTART;TZID=Europe/Vienna:20240114T180000
DTSTAMP:20260424T055855Z
UID:9433a16b6f784a218cd77ce9f51c3837@www.akbild.ac.at
CATEGORIES:Vorträge / Veranstaltungen
CREATED:20240112T105645Z
DESCRIPTION:Susie Flowers\, La Terre’ und Sheezus H. ChristinIn Kooperat
 ion mit der Akademie der bildenden Künste Wien\, Kunst und Zeit | Perform
 ance
LAST-MODIFIED:20240919T081152Z
URL:https://www.akbild.ac.at/de/institute/bildende-kunst/veranstaltungen/v
 ortrage-events/2024/tqw-winter-school-closing-party
END:VEVENT
BEGIN:VTIMEZONE
TZID:Europe/Vienna
X-LIC-LOCATION:Europe/Vienna
BEGIN:STANDARD
DTSTART:20231029T020000
TZNAME:CET
TZOFFSETFROM:+0200
TZOFFSETTO:+0100
END:STANDARD
END:VTIMEZONE
END:VCALENDAR
