BEGIN:VCALENDAR
VERSION:2.0
PRODID:-//Plone.org//NONSGML plone.app.event//EN
X-WR-TIMEZONE:Europe/Vienna
BEGIN:VEVENT
SUMMARY:Über die Mobilität der „Gastarbeiter_innen“ und die Immobili
 tät der weißen Kunstgeschichte
DTSTART;TZID=Europe/Vienna:20241114T180000
DTSTAMP:20260425T192837Z
UID:9ba0849108df40829d5da20eeb588824@www.akbild.ac.at
CATEGORIES:Vorträge / Veranstaltungen
CREATED:20241030T102151Z
DESCRIPTION:Ringvorlesung des Instituts für bildende Kunst. Organisiert v
 on Petja Dimitrova im Gespräch mit Gürsoy Doğtaş (Kunsthistoriker und 
 Kurator).
LAST-MODIFIED:20241030T102756Z
URL:https://www.akbild.ac.at/de/institute/bildende-kunst/veranstaltungen/v
 ortrage-events/2024/ueber-die-mobilitaet-der-gastarbeiter_innen-und-die-im
 mobilitaet-der-weissen-kunstgeschichte
END:VEVENT
BEGIN:VTIMEZONE
TZID:Europe/Vienna
X-LIC-LOCATION:Europe/Vienna
BEGIN:STANDARD
DTSTART:20241027T020000
TZNAME:CET
TZOFFSETFROM:+0200
TZOFFSETTO:+0100
END:STANDARD
END:VTIMEZONE
END:VCALENDAR
