BEGIN:VCALENDAR
VERSION:2.0
PRODID:-//Plone.org//NONSGML plone.app.event//EN
X-WR-TIMEZONE:Europe/Vienna
BEGIN:VEVENT
SUMMARY:Wer hat Angst vor dem Klassenkampf?  Und einige andere Verhaltensm
 uster
DTSTART;TZID=Europe/Vienna:20240411T180000
DTSTAMP:20260426T004206Z
UID:2608801af2744b78ab7cfe68294cbb20@www.akbild.ac.at
CATEGORIES:Vorträge / Veranstaltungen
CREATED:20240325T194928Z
DESCRIPTION:Vortrag von Sergio Zevallos\, Berlin und Lima\, im Rahmen der
  IBK-Vorträge\, organisiert vom Facbereich Kunst und Intervention | Konze
 pt\, Prof. Marina Grzinic.
LAST-MODIFIED:20240919T081152Z
URL:https://www.akbild.ac.at/de/institute/bildende-kunst/veranstaltungen/v
 ortrage-events/2024/wer-hat-angst-vor-dem-klassenkampf-und-einige-andere-v
 erhaltensmuster
END:VEVENT
BEGIN:VTIMEZONE
TZID:Europe/Vienna
X-LIC-LOCATION:Europe/Vienna
BEGIN:DAYLIGHT
DTSTART:20240331T030000
TZNAME:CEST
TZOFFSETFROM:+0100
TZOFFSETTO:+0200
END:DAYLIGHT
END:VTIMEZONE
END:VCALENDAR
