BEGIN:VCALENDAR
VERSION:2.0
PRODID:-//Plone.org//NONSGML plone.app.event//EN
X-WR-TIMEZONE:Europe/Vienna
BEGIN:VEVENT
SUMMARY:Artist talks: Sonam Chaturvedi und YuJun Ye
DTSTART;TZID=Europe/Vienna:20250130T140000
DTSTAMP:20260423T144145Z
UID:c803d6bca5f748e4b430e556ac4eb629@www.akbild.ac.at
CREATED:20250127T092327Z
DESCRIPTION:Künstler_innengespräche organisiert vom Fachbereich Kunst un
 d Intervention | Umfeld. As slow as possible (asap): ecologies of time in 
 late-capitalism von Sonam Chaturvedi/India und Artistic Action as a Strate
 gy for Self and Social Practice von YuJun Ye/Taiwan.
LAST-MODIFIED:20250128T152639Z
URL:https://www.akbild.ac.at/de/institute/bildende-kunst/veranstaltungen/v
 ortrage-events/2025-1/artist-talks-sonam-chaturvedi-und-yujun-ye
END:VEVENT
BEGIN:VTIMEZONE
TZID:Europe/Vienna
X-LIC-LOCATION:Europe/Vienna
BEGIN:STANDARD
DTSTART:20241027T020000
TZNAME:CET
TZOFFSETFROM:+0200
TZOFFSETTO:+0100
END:STANDARD
END:VTIMEZONE
END:VCALENDAR
