BEGIN:VCALENDAR
VERSION:2.0
PRODID:-//Plone.org//NONSGML plone.app.event//EN
X-WR-TIMEZONE:Europe/Vienna
BEGIN:VEVENT
SUMMARY:Buchpräsentation Publikationsreihe der Akademie der bildenden Kü
 nste Wien Band 29:[em]Sexual Dissidences[/em]
DTSTART;TZID=Europe/Vienna:20250625T173000
DTSTAMP:20260425T181612Z
UID:897b1608fda5480bb507c4259073ce03@www.akbild.ac.at
CATEGORIES:Vorträge / Veranstaltungen
CREATED:20250602T090326Z
DESCRIPTION:Präsentation des 29. Bandes aus der Publikationsreihe der Aka
 demie der bildenden Künste Wien.
LAST-MODIFIED:20250626T085802Z
URL:https://www.akbild.ac.at/de/institute/bildende-kunst/veranstaltungen/v
 ortrage-events/2025-1/buchpraesentation-band-29-sexual-dissidences
END:VEVENT
BEGIN:VTIMEZONE
TZID:Europe/Vienna
X-LIC-LOCATION:Europe/Vienna
BEGIN:DAYLIGHT
DTSTART:20250330T030000
TZNAME:CEST
TZOFFSETFROM:+0100
TZOFFSETTO:+0200
END:DAYLIGHT
END:VTIMEZONE
END:VCALENDAR
