BEGIN:VCALENDAR
VERSION:2.0
PRODID:-//Plone.org//NONSGML plone.app.event//EN
X-WR-TIMEZONE:Europe/Vienna
BEGIN:VEVENT
SUMMARY:Drucken mit Janine Polak
DTSTART;TZID=Europe/Vienna:20251104T130000
DTSTAMP:20260424T160309Z
UID:78f71ca1c649496eae472e098a7fe58b@www.akbild.ac.at
CATEGORIES:Vorträge / Veranstaltungen
CREATED:20251031T124637Z
DESCRIPTION:Bringt eure Stoffstücke oder Kleidung\, die ihr nicht mehr be
 nutzt\, mit in unsere Tiefdruckwerkstatt. Wir werden mehrere Gemeinschafts
 drucke erstellen\, bei denen wir Monotypien mit unseren persönlichen Stof
 fstücken anfertigen.
LAST-MODIFIED:20251031T125522Z
URL:https://www.akbild.ac.at/de/institute/bildende-kunst/veranstaltungen/v
 ortrage-events/2025-1/drucken-mit-janine-polak
END:VEVENT
BEGIN:VTIMEZONE
TZID:Europe/Vienna
X-LIC-LOCATION:Europe/Vienna
BEGIN:STANDARD
DTSTART:20251026T020000
TZNAME:CET
TZOFFSETFROM:+0200
TZOFFSETTO:+0100
END:STANDARD
END:VTIMEZONE
END:VCALENDAR
