BEGIN:VCALENDAR
VERSION:2.0
PRODID:-//Plone.org//NONSGML plone.app.event//EN
X-WR-TIMEZONE:Europe/Vienna
BEGIN:VEVENT
SUMMARY:Adelita Husni-Bey
DTSTART;TZID=Europe/Vienna:20250605T170000
DTEND;TZID=Europe/Vienna:20250605T183000
DTSTAMP:20260423T083433Z
UID:8b49c0c003114ea9940534bff4c8c517@www.akbild.ac.at
CATEGORIES:Vorträge / Veranstaltungen
CREATED:20250602T071440Z
DESCRIPTION:Lectures 4 Future in Zusammenarbeit mit dem Fachbereich Kunst 
 und Raum I Räumstrategien (Prof. Iman Issa).
LAST-MODIFIED:20250602T072906Z
URL:https://www.akbild.ac.at/de/institute/bildende-kunst/veranstaltungen/v
 ortrage-events/2025-1/lectures-for-future/adelita-husni-bey
END:VEVENT
BEGIN:VTIMEZONE
TZID:Europe/Vienna
X-LIC-LOCATION:Europe/Vienna
BEGIN:DAYLIGHT
DTSTART:20250330T030000
TZNAME:CEST
TZOFFSETFROM:+0100
TZOFFSETTO:+0200
END:DAYLIGHT
END:VTIMEZONE
END:VCALENDAR
