BEGIN:VCALENDAR
VERSION:2.0
PRODID:-//Plone.org//NONSGML plone.app.event//EN
X-WR-TIMEZONE:Europe/Vienna
BEGIN:VEVENT
SUMMARY:Climate Crisis: What gives us hope?
DTSTART;TZID=Europe/Vienna:20250410T170000
DTSTAMP:20260423T101240Z
UID:63f61f8acecf495da6af18835eae7f75@www.akbild.ac.at
CATEGORIES:Vorträge / Veranstaltungen
CREATED:20250325T144213Z
DESCRIPTION:Vortrag von Helga Kromp-Kolb im Rahmen der Ringvorlesung Lect
 ures For Future im Sommersemester 2025.
LAST-MODIFIED:20250325T144940Z
URL:https://www.akbild.ac.at/de/institute/bildende-kunst/veranstaltungen/v
 ortrage-events/2025-1/lectures-for-future/climate-crisis-what-gives-us-hop
 e
END:VEVENT
BEGIN:VTIMEZONE
TZID:Europe/Vienna
X-LIC-LOCATION:Europe/Vienna
BEGIN:DAYLIGHT
DTSTART:20250330T030000
TZNAME:CEST
TZOFFSETFROM:+0100
TZOFFSETTO:+0200
END:DAYLIGHT
END:VTIMEZONE
END:VCALENDAR
