BEGIN:VCALENDAR
VERSION:2.0
PRODID:-//Plone.org//NONSGML plone.app.event//EN
X-WR-TIMEZONE:Europe/Vienna
BEGIN:VEVENT
SUMMARY:Vik Bayer & Michael Reindel: Between above and below
DTSTART;TZID=Europe/Vienna:20250429T160000
DTSTAMP:20260419T164155Z
UID:af0b68fedee5486bbcc02810f1be17b8@www.akbild.ac.at
CATEGORIES:Vorträge / Veranstaltungen
CREATED:20250327T112359Z
DESCRIPTION:Ein Workshop mit Vik Bayer und Michael Reindel im Rahmen der R
 eihe »Zeichnen ist politisch«\, konzipiert von Veronika Dirnhofer &amp\;
  Ruby Sircar.
LAST-MODIFIED:20250328T094358Z
URL:https://www.akbild.ac.at/de/institute/bildende-kunst/veranstaltungen/v
 ortrage-events/2025-1/zeichnen-ist-politisch/vik-bayer-michael-reindel
END:VEVENT
BEGIN:VTIMEZONE
TZID:Europe/Vienna
X-LIC-LOCATION:Europe/Vienna
BEGIN:DAYLIGHT
DTSTART:20250330T030000
TZNAME:CEST
TZOFFSETFROM:+0100
TZOFFSETTO:+0200
END:DAYLIGHT
END:VTIMEZONE
END:VCALENDAR
