BEGIN:VCALENDAR
VERSION:2.0
PRODID:-//Plone.org//NONSGML plone.app.event//EN
X-WR-TIMEZONE:Europe/Vienna
BEGIN:VEVENT
SUMMARY:Innere Demokratisierung als Basis für pro-demokratisches und nach
 haltigkeitsförderndes Lehren und Lernen
DTSTART;TZID=Europe/Vienna:20260325T150000
DTSTAMP:20260422T193429Z
UID:a0703fbcd77a454eb052e659e7bc8bfb@www.akbild.ac.at
CATEGORIES:Vorträge / Veranstaltungen
CREATED:20260312T103356Z
DESCRIPTION:Ein Vortrag von Nils Altner im Rahmen der Ringvorlesung Lectu
 res for Future.
LAST-MODIFIED:20260312T103937Z
URL:https://www.akbild.ac.at/de/institute/bildende-kunst/veranstaltungen/v
 ortrage-events/2026/lectures-for-future/innere-demokratisierung-als-basis-
 fuer-pro-demokratisches-und-nachhaltigkeitsfoerderndes-lehren-und-lernen
END:VEVENT
BEGIN:VTIMEZONE
TZID:Europe/Vienna
X-LIC-LOCATION:Europe/Vienna
BEGIN:STANDARD
DTSTART:20251026T020000
TZNAME:CET
TZOFFSETFROM:+0200
TZOFFSETTO:+0100
END:STANDARD
END:VTIMEZONE
END:VCALENDAR
