BEGIN:VCALENDAR
VERSION:2.0
PRODID:-//Plone.org//NONSGML plone.app.event//EN
X-WR-TIMEZONE:Europe/Vienna
BEGIN:VEVENT
SUMMARY:Was hat Klimaschutz mit Frieden zu tun?
DTSTART;TZID=Europe/Vienna:20260513T163000
DTSTAMP:20260421T193245Z
UID:8ce270d45409454da5c552f42a50f439@www.akbild.ac.at
CATEGORIES:Vorträge / Veranstaltungen
CREATED:20260421T135757Z
DESCRIPTION:Ein Vortrag von Helga Kromp-Kolb im Rahmen der Ringvorlesung L
 ectures for Future.
LAST-MODIFIED:20260421T140522Z
URL:https://www.akbild.ac.at/de/institute/bildende-kunst/veranstaltungen/v
 ortrage-events/2026/lectures-for-future/was-hat-klimaschutz-mit-frieden-zu
 -tun
END:VEVENT
BEGIN:VTIMEZONE
TZID:Europe/Vienna
X-LIC-LOCATION:Europe/Vienna
BEGIN:DAYLIGHT
DTSTART:20260329T030000
TZNAME:CEST
TZOFFSETFROM:+0100
TZOFFSETTO:+0200
END:DAYLIGHT
END:VTIMEZONE
END:VCALENDAR
