BEGIN:VCALENDAR
VERSION:2.0
PRODID:-//Plone.org//NONSGML plone.app.event//EN
X-WR-TIMEZONE:Europe/Vienna
BEGIN:VEVENT
SUMMARY:Naomi's Path
DTSTART;VALUE=DATE:20260513
DTEND;VALUE=DATE:20260520
DTSTAMP:20260423T113448Z
UID:b9351173be5d4e9b8fe782120763bddd@www.akbild.ac.at
CATEGORIES:Ausstellungen
CREATED:20260423T074304Z
DESCRIPTION:Eien Ausstellung des Fachbereichs Kunst und Zeit | Fotografie.
LAST-MODIFIED:20260423T080707Z
URL:https://www.akbild.ac.at/de/institute/bildende-kunst/veranstaltungen/v
 ortrage-events/2026/naomis-path
END:VEVENT
END:VCALENDAR
