BEGIN:VCALENDAR
VERSION:2.0
PRODID:-//Plone.org//NONSGML plone.app.event//EN
X-WR-TIMEZONE:Europe/Vienna
BEGIN:VEVENT
SUMMARY:Technologie und Interpretation - Reflexionen über den künstleris
 chen Prozess
DTSTART;VALUE=DATE:20100923
DTEND;VALUE=DATE:20100925
DTSTAMP:20260423T175940Z
UID:52be6e038333075862351f167c25a29d@www.akbild.ac.at
CATEGORIES:Konferenzen
CREATED:20220312T093334Z
DESCRIPTION:Interim meeting der ICOM-CC Arbeitsgruppe Art Technological So
 urce Research
LAST-MODIFIED:20240919T081251Z
URL:https://www.akbild.ac.at/de/institute/konservierung-restaurierung/vera
 nstaltungen/konferenzen/2010/akbild_event.2010-04-02.1672731730
END:VEVENT
END:VCALENDAR
