BEGIN:VCALENDAR
VERSION:2.0
PRODID:-//Plone.org//NONSGML plone.app.event//EN
X-WR-TIMEZONE:Europe/Vienna
BEGIN:VEVENT
SUMMARY:4th Ulrich Schiessl PhD Colloquium
DTSTART;VALUE=DATE:20241119
DTEND;VALUE=DATE:20241121
DTSTAMP:20260423T101136Z
UID:35f33ee3431d42e887dbea5bdc5379d2@www.akbild.ac.at
CATEGORIES:Vorträge / Veranstaltungen
CREATED:20241121T152534Z
DESCRIPTION:Am 19. und 20. November findet das 4th Ulrich Schiessl PhD Col
 loquium\, organisiert vom European Network for Conservation-Restoration Ed
 ucation (ENCoRE)\, statt. ENCoRE ist ein Netzwerk von Hochschulen im Berei
 ch der Konservierung-Restaurierung mit Sitz an der Akademie der bildenden 
 Künste Wien.
LAST-MODIFIED:20241121T153130Z
URL:https://www.akbild.ac.at/de/institute/konservierung-restaurierung/vera
 nstaltungen/konferenzen/2024-1/4th-ulrich-schiessl-phd-colloquium
END:VEVENT
END:VCALENDAR
