BEGIN:VCALENDAR
VERSION:2.0
PRODID:-//Plone.org//NONSGML plone.app.event//EN
X-WR-TIMEZONE:Europe/Vienna
BEGIN:VEVENT
SUMMARY:„Flugrost und Schmierfett“ – Die Konservierung eines Goggomo
 bils
DTSTART;TZID=Europe/Vienna:20140605T173000
DTSTAMP:20260424T061927Z
UID:2b34bd17c6ea8860f42a6875b29c7a2c@www.akbild.ac.at
CATEGORIES:Vorträge / Veranstaltungen
CREATED:20220312T093134Z
DESCRIPTION:Gastvortrag von Philip Mandrys\, Institut für Restaurierungs-
  und Konservierungswissenschaft der FH Köln organisiert vom Institut für
  Konservierung-Restaurierung.
LAST-MODIFIED:20240919T081248Z
URL:https://www.akbild.ac.at/de/institute/konservierung-restaurierung/vera
 nstaltungen/vortrage-events/2014/akbild_event.2014-05-20.9665015799
END:VEVENT
BEGIN:VTIMEZONE
TZID:Europe/Vienna
X-LIC-LOCATION:Europe/Vienna
BEGIN:DAYLIGHT
DTSTART:20140330T030000
TZNAME:CEST
TZOFFSETFROM:+0100
TZOFFSETTO:+0200
END:DAYLIGHT
END:VTIMEZONE
END:VCALENDAR
