BEGIN:VCALENDAR
VERSION:2.0
PRODID:-//Plone.org//NONSGML plone.app.event//EN
X-WR-TIMEZONE:Europe/Vienna
BEGIN:VEVENT
SUMMARY:Es kommt nicht nur auf die Auflösung an! | Dateiformate für Film
  und Video
DTSTART;TZID=Europe/Vienna:20151217T160000
DTSTAMP:20260422T190845Z
UID:dfcd73f24731abcc336ff9f914bd2d64@www.akbild.ac.at
CATEGORIES:Vorträge / Veranstaltungen
CREATED:20220312T093142Z
DESCRIPTION:Gastvortrag von Dr. Reto Kromer (AV Preservation by reto.ch)
LAST-MODIFIED:20240919T081248Z
URL:https://www.akbild.ac.at/de/institute/konservierung-restaurierung/vera
 nstaltungen/vortrage-events/2015/es-kommt-nicht-nur-auf-die-aufloesung-an-
 dateiformate-fuer-film-und-video
END:VEVENT
BEGIN:VTIMEZONE
TZID:Europe/Vienna
X-LIC-LOCATION:Europe/Vienna
BEGIN:STANDARD
DTSTART:20151025T020000
TZNAME:CET
TZOFFSETFROM:+0200
TZOFFSETTO:+0100
END:STANDARD
END:VTIMEZONE
END:VCALENDAR
