BEGIN:VCALENDAR
VERSION:2.0
PRODID:-//Plone.org//NONSGML plone.app.event//EN
X-WR-TIMEZONE:Europe/Vienna
BEGIN:VEVENT
SUMMARY:Guest Lectures on Modern Art Forgery and the Bolognese Manuscript
DTSTART;TZID=Europe/Vienna:20180427T160000
DTSTAMP:20260424T234008Z
UID:83af9fa4afbeada26f829b490c983a06@www.akbild.ac.at
CATEGORIES:Vorträge / Veranstaltungen
CREATED:20220312T093209Z
DESCRIPTION:Lectures by Jilleen Nadolny and Lara Broecke.
LAST-MODIFIED:20240919T081248Z
URL:https://www.akbild.ac.at/de/institute/konservierung-restaurierung/vera
 nstaltungen/vortrage-events/2018/guest-lectures-on-modern-art-forgery-and-
 the-bolognese-manuscript
END:VEVENT
BEGIN:VTIMEZONE
TZID:Europe/Vienna
X-LIC-LOCATION:Europe/Vienna
BEGIN:DAYLIGHT
DTSTART:20180325T030000
TZNAME:CEST
TZOFFSETFROM:+0100
TZOFFSETTO:+0200
END:DAYLIGHT
END:VTIMEZONE
END:VCALENDAR
