BEGIN:VCALENDAR
VERSION:2.0
PRODID:-//Plone.org//NONSGML plone.app.event//EN
X-WR-TIMEZONE:Europe/Vienna
BEGIN:VEVENT
SUMMARY:Byzantinische Wandmalereitradition
DTSTART;TZID=Europe/Vienna:20190517T150000
DTSTAMP:20260419T131142Z
UID:17e8d31a0dfef5ea155b57944cc24891@www.akbild.ac.at
CATEGORIES:Vorträge / Veranstaltungen
CREATED:20220312T093229Z
DESCRIPTION:Vorträge und Diskussionen von und mit Dr. Maria Dumbravičian
  (Nationale Universität der Künste Bukarest) und Gülseren Dikilitaș (U
 niversität Istanbul) im Rahmen der Vortragsreihe zu historischen Technike
 n der Wandmalerei und Architekturoberfläche: Materialien\, Technologie un
 d Erhaltung.
LAST-MODIFIED:20240919T081248Z
URL:https://www.akbild.ac.at/de/institute/konservierung-restaurierung/vera
 nstaltungen/vortrage-events/2019/byzantinische-wandmalereitradition
END:VEVENT
BEGIN:VTIMEZONE
TZID:Europe/Vienna
X-LIC-LOCATION:Europe/Vienna
BEGIN:DAYLIGHT
DTSTART:20190331T030000
TZNAME:CEST
TZOFFSETFROM:+0100
TZOFFSETTO:+0200
END:DAYLIGHT
END:VTIMEZONE
END:VCALENDAR
