BEGIN:VCALENDAR
VERSION:2.0
PRODID:-//Plone.org//NONSGML plone.app.event//EN
X-WR-TIMEZONE:Europe/Vienna
BEGIN:VEVENT
SUMMARY:Diplomvorträge und offene Studios
DTSTART;VALUE=DATE:20190626
DTEND;VALUE=DATE:20190628
DTSTAMP:20260424T064103Z
UID:79c0c90d9566e92f40244183de87efcb@www.akbild.ac.at
CATEGORIES:Vorträge / Veranstaltungen
CREATED:20220312T093234Z
DESCRIPTION:Das IKR öffnet aus Anlass der Diplompräsentation die Studios
  aller Fachbereiche.
LAST-MODIFIED:20240919T081248Z
URL:https://www.akbild.ac.at/de/institute/konservierung-restaurierung/vera
 nstaltungen/vortrage-events/2019/diplomvortraege-und-offene-studios
END:VEVENT
END:VCALENDAR
