BEGIN:VCALENDAR
VERSION:2.0
PRODID:-//Plone.org//NONSGML plone.app.event//EN
X-WR-TIMEZONE:Europe/Vienna
BEGIN:VEVENT
SUMMARY:Diplomvorträge
DTSTART;VALUE=DATE:20201009
DTEND;VALUE=DATE:20201010
DTSTAMP:20260424T064103Z
UID:fb0b4a0695113180b8d464112c351b7b@www.akbild.ac.at
CATEGORIES:Vorträge / Veranstaltungen
CREATED:20220312T093243Z
DESCRIPTION:Aufgrund der aktuellen Pandemie-Entwicklung kann an den Diplom
 vorträgen  ausschließlich online teilgenommen werden. - Der ZOOM-Link wi
 rd auf  Anfrage verschickt:\n \n  cons@akbild.ac.at
LAST-MODIFIED:20240919T081248Z
URL:https://www.akbild.ac.at/de/institute/konservierung-restaurierung/vera
 nstaltungen/vortrage-events/2020/diplomvortraege
END:VEVENT
END:VCALENDAR
