BEGIN:VCALENDAR
VERSION:2.0
PRODID:-//Plone.org//NONSGML plone.app.event//EN
X-WR-TIMEZONE:Europe/Vienna
BEGIN:VEVENT
SUMMARY:Morgane Stricot – [em]Repair\, Recode\, Redigitize - Repeat[/em]
DTSTART;TZID=Europe/Vienna:20221221T180000
DTSTAMP:20260424T221326Z
UID:11262b07da8d429ba37a0de243546da5@www.akbild.ac.at
CATEGORIES:Vorträge / Veranstaltungen
CREATED:20221220T084721Z
DESCRIPTION:Im Rahmen der Ringvorlesung Best Available Copy 3 – the pre
 servation of time-based media art ...again and again and again.
LAST-MODIFIED:20240919T081248Z
URL:https://www.akbild.ac.at/de/institute/konservierung-restaurierung/vera
 nstaltungen/vortrage-events/2022/best-available-copy-3-the-preservation-of
 -time-based-media-art-again-and-again-and-again/repair-recode-redigitize-r
 epeat
END:VEVENT
BEGIN:VTIMEZONE
TZID:Europe/Vienna
X-LIC-LOCATION:Europe/Vienna
BEGIN:STANDARD
DTSTART:20221030T020000
TZNAME:CET
TZOFFSETFROM:+0200
TZOFFSETTO:+0100
END:STANDARD
END:VTIMEZONE
END:VCALENDAR
