BEGIN:VCALENDAR
VERSION:2.0
PRODID:-//Plone.org//NONSGML plone.app.event//EN
X-WR-TIMEZONE:Europe/Vienna
BEGIN:VEVENT
SUMMARY:Lange Nacht der Forschung 2022
DTSTART;TZID=Europe/Vienna:20220520T170000
DTEND;TZID=Europe/Vienna:20220520T220000
DTSTAMP:20260425T020648Z
UID:3b9448fe900f4e11a5a9d7b36214c2b0@www.akbild.ac.at
CATEGORIES:Vorträge / Veranstaltungen
CREATED:20220412T090717Z
DESCRIPTION:Das volle Programm ist unter https://langenachtderforschung.a
 t online einzusehen.
LAST-MODIFIED:20240919T081244Z
URL:https://www.akbild.ac.at/de/institute/konservierung-restaurierung/vera
 nstaltungen/vortrage-events/2022/lange-nacht-der-forschung-2022
END:VEVENT
BEGIN:VTIMEZONE
TZID:Europe/Vienna
X-LIC-LOCATION:Europe/Vienna
BEGIN:DAYLIGHT
DTSTART:20220327T030000
TZNAME:CEST
TZOFFSETFROM:+0100
TZOFFSETTO:+0200
END:DAYLIGHT
END:VTIMEZONE
END:VCALENDAR
