BEGIN:VCALENDAR
VERSION:2.0
PRODID:-//Plone.org//NONSGML plone.app.event//EN
X-WR-TIMEZONE:Europe/Vienna
BEGIN:VEVENT
SUMMARY:Gemaltes Gift. Zur Idee der Malerei als ‚Pharmakon‘ im 17. Jah
 rhundert
DTSTART;TZID=Europe/Vienna:20220519T180000
DTSTAMP:20260424T191849Z
UID:f465b2d1a18844c082e28072f0eb9425@www.akbild.ac.at
CATEGORIES:Vorträge / Veranstaltungen
CREATED:20220513T122741Z
DESCRIPTION:Vortrag von Prof. Dr. Karin Leonhard\, Kunstwissenschaft an de
 r Universität Konstanz im Rahmen der Vortragsreihe Material transportiert
  Inhalt.\nDer Vortrag wird auf Deutsch gehalten.
LAST-MODIFIED:20240919T081244Z
URL:https://www.akbild.ac.at/de/institute/konservierung-restaurierung/vera
 nstaltungen/vortrage-events/2022/material-transportiert-inhalt/gemaltes-gi
 ft-zur-idee-der-malerei-als-pharmakon
END:VEVENT
BEGIN:VTIMEZONE
TZID:Europe/Vienna
X-LIC-LOCATION:Europe/Vienna
BEGIN:DAYLIGHT
DTSTART:20220327T030000
TZNAME:CEST
TZOFFSETFROM:+0100
TZOFFSETTO:+0200
END:DAYLIGHT
END:VTIMEZONE
END:VCALENDAR
