BEGIN:VCALENDAR
VERSION:2.0
PRODID:-//Plone.org//NONSGML plone.app.event//EN
X-WR-TIMEZONE:Europe/Vienna
BEGIN:VEVENT
SUMMARY:Pigments: Quality\, Developments and Substitutes (Hybrid)
DTSTART;TZID=Europe/Vienna:20220505T180000
DTSTAMP:20260423T030051Z
UID:dddcc0107aa148409aa5edebc7e2bbeb@www.akbild.ac.at
CATEGORIES:Vorträge / Veranstaltungen
CREATED:20220330T092316Z
DESCRIPTION:Englischer Vortrag von Matthijs de Keijzer\, ehemaliger Konser
 vierungswissenschaftler in der Abteilung Konservierung und Restaurierung d
 er Cultural Heritage Agency of the Netherlands in Amsterdam im Rahmen der 
 Vortragsreihe Material transportiert Inhalt.
LAST-MODIFIED:20240919T081244Z
URL:https://www.akbild.ac.at/de/institute/konservierung-restaurierung/vera
 nstaltungen/vortrage-events/2022/material-transportiert-inhalt/neue-pigmen
 ts-quality-developments-and-substitutes-hybrid
END:VEVENT
BEGIN:VTIMEZONE
TZID:Europe/Vienna
X-LIC-LOCATION:Europe/Vienna
BEGIN:DAYLIGHT
DTSTART:20220327T030000
TZNAME:CEST
TZOFFSETFROM:+0100
TZOFFSETTO:+0200
END:DAYLIGHT
END:VTIMEZONE
END:VCALENDAR
