BEGIN:VCALENDAR
VERSION:2.0
PRODID:-//Plone.org//NONSGML plone.app.event//EN
X-WR-TIMEZONE:Europe/Vienna
BEGIN:VEVENT
SUMMARY:Diplomvorträge IKR
DTSTART;TZID=Europe/Vienna:20230629T090000
DTEND;TZID=Europe/Vienna:20230629T160000
DTSTAMP:20260421T213651Z
UID:04ae7a1ecc3f4354b94a1bb988a7e039@www.akbild.ac.at
CATEGORIES:Vorträge / Veranstaltungen
CREATED:20230615T123521Z
DESCRIPTION:Am Do.\, 29.6.2023 finden die Diplomvorträge des Instituts f
 ür Konservierung–Restaurierung statt. Die Vorträge werden in Präsenz 
 gehalten und parallel Online gezeigt (hybrid).
LAST-MODIFIED:20240919T081244Z
URL:https://www.akbild.ac.at/de/institute/konservierung-restaurierung/vera
 nstaltungen/vortrage-events/2023/diplomvortraege-ikr
END:VEVENT
BEGIN:VTIMEZONE
TZID:Europe/Vienna
X-LIC-LOCATION:Europe/Vienna
BEGIN:DAYLIGHT
DTSTART:20230326T030000
TZNAME:CEST
TZOFFSETFROM:+0100
TZOFFSETTO:+0200
END:DAYLIGHT
END:VTIMEZONE
END:VCALENDAR
