BEGIN:VCALENDAR
VERSION:2.0
PRODID:-//Plone.org//NONSGML plone.app.event//EN
X-WR-TIMEZONE:Europe/Vienna
BEGIN:VEVENT
SUMMARY:Dokumentation von Performance-Kunst
DTSTART;TZID=Europe/Vienna:20230602T100000
DTEND;TZID=Europe/Vienna:20230602T140000
DTSTAMP:20260424T113202Z
UID:4b943ca958f14ae18939edbe872ef810@www.akbild.ac.at
CATEGORIES:Vorträge / Veranstaltungen
CREATED:20230530T131429Z
DESCRIPTION:Workshop mit Vivian van Saaze und Charlotta Ruth
LAST-MODIFIED:20240919T081244Z
URL:https://www.akbild.ac.at/de/institute/konservierung-restaurierung/vera
 nstaltungen/vortrage-events/2023/dokumentation-von-performance-kunst
END:VEVENT
BEGIN:VTIMEZONE
TZID:Europe/Vienna
X-LIC-LOCATION:Europe/Vienna
BEGIN:DAYLIGHT
DTSTART:20230326T030000
TZNAME:CEST
TZOFFSETFROM:+0100
TZOFFSETTO:+0200
END:DAYLIGHT
END:VTIMEZONE
END:VCALENDAR
