BEGIN:VCALENDAR
VERSION:2.0
PRODID:-//Plone.org//NONSGML plone.app.event//EN
X-WR-TIMEZONE:Europe/Vienna
BEGIN:VEVENT
SUMMARY:Forkology: Restaurator_innen als Kunstentwickler_innen
DTSTART;TZID=Europe/Vienna:20231115T170000
DTSTAMP:20260424T101222Z
UID:9b63e709cc304937991f9cde26c519f0@www.akbild.ac.at
CATEGORIES:Vorträge / Veranstaltungen
CREATED:20231103T133300Z
DESCRIPTION:Vortrag von Jonathan Kemp.
LAST-MODIFIED:20240919T081244Z
URL:https://www.akbild.ac.at/de/institute/konservierung-restaurierung/vera
 nstaltungen/vortrage-events/2023/forkology-restaurator_innen-als-kunstentw
 ickler_innen
END:VEVENT
BEGIN:VTIMEZONE
TZID:Europe/Vienna
X-LIC-LOCATION:Europe/Vienna
BEGIN:STANDARD
DTSTART:20231029T020000
TZNAME:CET
TZOFFSETFROM:+0200
TZOFFSETTO:+0100
END:STANDARD
END:VTIMEZONE
END:VCALENDAR
