BEGIN:VCALENDAR
VERSION:2.0
PRODID:-//Plone.org//NONSGML plone.app.event//EN
X-WR-TIMEZONE:Europe/Vienna
BEGIN:VEVENT
SUMMARY:Was würde die historische Materialistin sagen? (... vielleicht 
 „most relevant copy")
DTSTART;TZID=Europe/Vienna:20240605T180000
DTSTAMP:20260423T101239Z
UID:bf24746d96e247e29a633200a3a80fc9@www.akbild.ac.at
CATEGORIES:Vorträge / Veranstaltungen
CREATED:20240517T094324Z
DESCRIPTION:Vortrag von Ruth Sonderegger im Rahmen der Ringvorlesung Best 
 Available Copy 4 - the preservation of time-based media art ... documentat
 ion as a copy am Instituts für Konservierung-Restaurierung.
LAST-MODIFIED:20240919T081244Z
URL:https://www.akbild.ac.at/de/institute/konservierung-restaurierung/vera
 nstaltungen/vortrage-events/2024/best-available-copy-4-the-preservation-of
 -time-based-media-art-documentation-as-a-copy/ruth-sonderegger
END:VEVENT
BEGIN:VTIMEZONE
TZID:Europe/Vienna
X-LIC-LOCATION:Europe/Vienna
BEGIN:DAYLIGHT
DTSTART:20240331T030000
TZNAME:CEST
TZOFFSETFROM:+0100
TZOFFSETTO:+0200
END:DAYLIGHT
END:VTIMEZONE
END:VCALENDAR
