BEGIN:VCALENDAR
VERSION:2.0
PRODID:-//Plone.org//NONSGML plone.app.event//EN
X-WR-TIMEZONE:Europe/Vienna
BEGIN:VEVENT
SUMMARY:Habilvortrag Sigrid Eyb-Green
DTSTART;TZID=Europe/Vienna:20240618T170000
DTSTAMP:20260423T114303Z
UID:06d497b9a24448959690ad4d2ef4cced@www.akbild.ac.at
CATEGORIES:Vorträge / Veranstaltungen
CREATED:20240613T095806Z
DESCRIPTION:Vortrag von Sigrid Eyb-Green (Institut für Konservierung-Rest
 aurierung) anlässlich der Habilitation.
LAST-MODIFIED:20240919T081244Z
URL:https://www.akbild.ac.at/de/institute/konservierung-restaurierung/vera
 nstaltungen/vortrage-events/2024/habilvortrag-sigrid-eyb-green
END:VEVENT
BEGIN:VTIMEZONE
TZID:Europe/Vienna
X-LIC-LOCATION:Europe/Vienna
BEGIN:DAYLIGHT
DTSTART:20240331T030000
TZNAME:CEST
TZOFFSETFROM:+0100
TZOFFSETTO:+0200
END:DAYLIGHT
END:VTIMEZONE
END:VCALENDAR
