BEGIN:VCALENDAR
VERSION:2.0
PRODID:-//Plone.org//NONSGML plone.app.event//EN
X-WR-TIMEZONE:Europe/Vienna
BEGIN:VEVENT
SUMMARY:INCCA Miniseries: Erhaltung von Jenny Holzers Werken Session 2
DTSTART;TZID=Europe/Vienna:20241212T180000
DTEND;TZID=Europe/Vienna:20241212T190000
DTSTAMP:20260423T105647Z
UID:030de8c65c904ed29c1cfb669d44df39@www.akbild.ac.at
CATEGORIES:Vorträge / Veranstaltungen
CREATED:20241206T140014Z
DESCRIPTION:Das Institut für Konservierung und Restaurierung (IKR) hat in
  den vergangenen zwei Jahren intensiv an der Erhaltung von Jenny Holzers W
 erken geforscht\, insbesondere an der bedeutenden LED-Installation im MAK 
 Wien. Wir freuen uns\, im Rahmen des ICOM-CC Modern Materials and Contempo
 rary Art Arbeitskreises zur INCCA Miniseries einzuladen\, die von der INCC
 A Resource Group for Light-based Art initiiert wurde.
LAST-MODIFIED:20241206T140642Z
URL:https://www.akbild.ac.at/de/institute/konservierung-restaurierung/vera
 nstaltungen/vortrage-events/2024/incca-miniseries-erhaltung-von-jenny-holz
 ers-werken/incca-miniseries-erhaltung-von-jenny-holzers-werken-session-2
END:VEVENT
BEGIN:VTIMEZONE
TZID:Europe/Vienna
X-LIC-LOCATION:Europe/Vienna
BEGIN:STANDARD
DTSTART:20241027T020000
TZNAME:CET
TZOFFSETFROM:+0200
TZOFFSETTO:+0100
END:STANDARD
END:VTIMEZONE
END:VCALENDAR
