BEGIN:VCALENDAR
VERSION:2.0
PRODID:-//Plone.org//NONSGML plone.app.event//EN
X-WR-TIMEZONE:Europe/Vienna
BEGIN:VEVENT
SUMMARY:INCCA Miniseries on Jenny Holzer Session 1
DTSTART;TZID=Europe/Vienna:20241205T150000
DTEND;TZID=Europe/Vienna:20241205T163000
DTSTAMP:20260423T101413Z
UID:79bd92ebaa23422698a75df308fb65ca@www.akbild.ac.at
CATEGORIES:Vorträge / Veranstaltungen
CREATED:20241205T155600Z
DESCRIPTION:Das Institut für Konservierung und Restaurierung (IKR) hat in
  den vergangenen zwei Jahren intensiv an der Erhaltung von Jenny Holzers W
 erken geforscht\, insbesondere an der bedeutenden LED-Installation im MAK 
 Wien. Wir freuen uns\, im Rahmen des ICOM-CC Modern Materials and Contempo
 rary Art Arbeitskreises zur INCCA Miniseries einzuladen\, die von der INCC
 A Resource Group for Light-based Art initiiert wurde.
LAST-MODIFIED:20241206T140626Z
URL:https://www.akbild.ac.at/de/institute/konservierung-restaurierung/vera
 nstaltungen/vortrage-events/2024/incca-miniseries-erhaltung-von-jenny-holz
 ers-werken/incca-miniseries-on-jenny-holzer-session-1
END:VEVENT
BEGIN:VTIMEZONE
TZID:Europe/Vienna
X-LIC-LOCATION:Europe/Vienna
BEGIN:STANDARD
DTSTART:20241027T020000
TZNAME:CET
TZOFFSETFROM:+0200
TZOFFSETTO:+0100
END:STANDARD
END:VTIMEZONE
END:VCALENDAR
