BEGIN:VCALENDAR
VERSION:2.0
PRODID:-//Plone.org//NONSGML plone.app.event//EN
X-WR-TIMEZONE:Europe/Vienna
BEGIN:VEVENT
SUMMARY:Offene Studios am IKR anlässlich der Europäischen Tage der Konse
 rvierung-Restaurierung 2025
DTSTART;TZID=Europe/Vienna:20251016T160000
DTEND;TZID=Europe/Vienna:20251016T180000
DTSTAMP:20260423T114256Z
UID:0e3712042f2e430fa9958c48c191d046@www.akbild.ac.at
CATEGORIES:Vorträge / Veranstaltungen
CREATED:20251008T074414Z
DESCRIPTION:Anlässlich des von E.C.C.O. (European Confederation of Conser
 vator-Restorers Organisations) initiierten Europäischen Tage der Konserv
 ierung-Restaurierung gewähren europaweit Restaurator_innen Einblicke in 
 ihre Arbeit.
LAST-MODIFIED:20251008T075910Z
URL:https://www.akbild.ac.at/de/institute/konservierung-restaurierung/vera
 nstaltungen/vortrage-events/2025/offene-studios-am-ikr-ecco
END:VEVENT
BEGIN:VTIMEZONE
TZID:Europe/Vienna
X-LIC-LOCATION:Europe/Vienna
BEGIN:DAYLIGHT
DTSTART:20250330T030000
TZNAME:CEST
TZOFFSETFROM:+0100
TZOFFSETTO:+0200
END:DAYLIGHT
END:VTIMEZONE
END:VCALENDAR
