BEGIN:VCALENDAR
VERSION:2.0
PRODID:-//Plone.org//NONSGML plone.app.event//EN
X-WR-TIMEZONE:Europe/Vienna
BEGIN:VEVENT
SUMMARY:Living Lab: Constructing the Commons
DTSTART;TZID=Europe/Vienna:20180924T180000
DTSTAMP:20260424T103135Z
UID:b4bd275364513fb7a4fa20e0f14bd269@www.akbild.ac.at
CREATED:20220312T094749Z
DESCRIPTION:A project curated by Tom Avermaete (TU Delft / ETH Zürich)\, 
 Lisa Schmidt-Colinet and Daniela Herold (IKA\, Academy of Fine Arts Vienna
 ) in cooperation with IBA_Vienna 2022\, International Building Exhibition 
 – New Social Housing\n\n\n Opening hours: Mon – Fri 2 to 6 pm
LAST-MODIFIED:20240919T081317Z
URL:https://www.akbild.ac.at/de/institute/kunst-und-architektur/veranstalt
 ungen/ausstellungen-vermittlung/2018/living-lab-constructing-the-commons/S
 ubEvent
END:VEVENT
BEGIN:VTIMEZONE
TZID:Europe/Vienna
X-LIC-LOCATION:Europe/Vienna
BEGIN:DAYLIGHT
DTSTART:20180325T030000
TZNAME:CEST
TZOFFSETFROM:+0100
TZOFFSETTO:+0200
END:DAYLIGHT
END:VTIMEZONE
END:VCALENDAR
